BEGIN:VCALENDAR
VERSION:2.0
PRODID:ShowClix//ShowClix//EN
BEGIN:VTIMEZONE
TZID:America/Los_Angeles
BEGIN:STANDARD
DTSTART:20261101T090000
TZOFFSETFROM:-0700
TZOFFSETTO:-0800
TZNAME:PST
END:STANDARD
BEGIN:DAYLIGHT
DTSTART:20270314T100000
TZOFFSETFROM:-0800
TZOFFSETTO:-0700
TZNAME:PDT
END:DAYLIGHT
END:VTIMEZONE
BEGIN:VEVENT
DTSTART;TZID=America/Los_Angeles:20260801T173000
SUMMARY:D23 x Street Food Cinema Present: Disney and Pixar&rsquo;s Cars 20th Anniversary Screening
DESCRIPTION:Show details available at https://tickets.d23.com/event/d23-x-street-food-cinema-present-disney-pixar-cars
LOCATION:Autry Museum of the American West
GEO:34.148381;-118.281708
END:VEVENT
END:VCALENDAR
