BEGIN:VCALENDAR
VERSION:2.0
PRODID:ShowClix//ShowClix//EN
BEGIN:VTIMEZONE
TZID:America/Los_Angeles
BEGIN:STANDARD
DTSTART:20261101T090000
TZOFFSETFROM:-0700
TZOFFSETTO:-0800
TZNAME:PST
END:STANDARD
BEGIN:DAYLIGHT
DTSTART:20270314T100000
TZOFFSETFROM:-0800
TZOFFSETTO:-0700
TZNAME:PDT
END:DAYLIGHT
END:VTIMEZONE
BEGIN:VEVENT
DTSTART;TZID=America/Los_Angeles:20260711T173000
SUMMARY:D23 x Street Food Cinema Present: The Princess Diaries 25th Anniversary Screening
DESCRIPTION:Show details available at https://tickets.d23.com/event/d23-x-street-food-cinema-present-the-princess-diaries
LOCATION:La Cienega Park
GEO:34.062182;-118.375702
END:VEVENT
END:VCALENDAR
